BEGIN:VCALENDAR
VERSION:2.0
PRODID:-//Meadowlark Country Club - ECPv6.0.13//NONSGML v1.0//EN
CALSCALE:GREGORIAN
METHOD:PUBLISH
X-ORIGINAL-URL:http://meadowlarkcountryclub.com
X-WR-CALDESC:Events for Meadowlark Country Club
REFRESH-INTERVAL;VALUE=DURATION:PT1H
X-Robots-Tag:noindex
X-PUBLISHED-TTL:PT1H
BEGIN:VTIMEZONE
TZID:UTC
BEGIN:STANDARD
TZOFFSETFROM:+0000
TZOFFSETTO:+0000
TZNAME:UTC
DTSTART:20240101T000000
END:STANDARD
END:VTIMEZONE
BEGIN:VEVENT
DTSTART;TZID=UTC:20240701T180000
DTEND;TZID=UTC:20240701T200000
DTSTAMP:20260420T150428
CREATED:20230605T213811Z
LAST-MODIFIED:20231130T235623Z
UID:1208-1719856800-1719864000@meadowlarkcountryclub.com
SUMMARY:2-Man League 6:00
DESCRIPTION:Shotgun at 6:00\, course closes at 3:50.
URL:http://meadowlarkcountryclub.com/event/2-man-league-600-4/
CATEGORIES:2 Man
END:VEVENT
BEGIN:VEVENT
DTSTART;TZID=UTC:20240708T180000
DTEND;TZID=UTC:20240708T200000
DTSTAMP:20260420T150428
CREATED:20230605T213859Z
LAST-MODIFIED:20231130T235729Z
UID:1210-1720461600-1720468800@meadowlarkcountryclub.com
SUMMARY:2-Man League 6:00
DESCRIPTION:Shotgun at 6:00\, course closes at 3:50.
URL:http://meadowlarkcountryclub.com/event/2-man-league-600-5/
CATEGORIES:2 Man
END:VEVENT
BEGIN:VEVENT
DTSTART;TZID=UTC:20240715T180000
DTEND;TZID=UTC:20240715T200000
DTSTAMP:20260420T150428
CREATED:20230605T213947Z
LAST-MODIFIED:20231201T000100Z
UID:1212-1721066400-1721073600@meadowlarkcountryclub.com
SUMMARY:2-Man League 6:00
DESCRIPTION:Shotgun at 6:00\, course closes at 3:50.
URL:http://meadowlarkcountryclub.com/event/2-man-league-600-6/
CATEGORIES:2 Man
END:VEVENT
BEGIN:VEVENT
DTSTART;TZID=UTC:20240722T180000
DTEND;TZID=UTC:20240722T200000
DTSTAMP:20260420T150428
CREATED:20230605T214045Z
LAST-MODIFIED:20231201T000416Z
UID:1214-1721671200-1721678400@meadowlarkcountryclub.com
SUMMARY:2-Man League 6:00
DESCRIPTION:Shotgun at 6:00\, course closed at 3:50
URL:http://meadowlarkcountryclub.com/event/2-man-league-615/
CATEGORIES:2 Man
END:VEVENT
BEGIN:VEVENT
DTSTART;TZID=UTC:20240729T180000
DTEND;TZID=UTC:20240729T200000
DTSTAMP:20260420T150428
CREATED:20230605T214143Z
LAST-MODIFIED:20231201T001128Z
UID:1216-1722276000-1722283200@meadowlarkcountryclub.com
SUMMARY:2-Man League 6:00
DESCRIPTION:Shotgun at 6:15\, due to Turkey Open
URL:http://meadowlarkcountryclub.com/event/2-man-league-600-7/
CATEGORIES:2 Man
END:VEVENT
END:VCALENDAR